BEGIN:VCALENDAR
VERSION:2.0
PRODID:-//SMART Golf &amp; Fitness Instruction - ECPv6.15.20//NONSGML v1.0//EN
CALSCALE:GREGORIAN
METHOD:PUBLISH
X-WR-CALNAME:SMART Golf &amp; Fitness Instruction
X-ORIGINAL-URL:https://smartgolffitness.com
X-WR-CALDESC:Events for SMART Golf &amp; Fitness Instruction
REFRESH-INTERVAL;VALUE=DURATION:PT1H
X-Robots-Tag:noindex
X-PUBLISHED-TTL:PT1H
BEGIN:VTIMEZONE
TZID:UTC
BEGIN:STANDARD
TZOFFSETFROM:+0000
TZOFFSETTO:+0000
TZNAME:UTC
DTSTART:20250101T000000
END:STANDARD
END:VTIMEZONE
BEGIN:VEVENT
DTSTART;TZID=UTC:20260304T100000
DTEND;TZID=UTC:20260304T150000
DTSTAMP:20260421T103212
CREATED:20260227T205559Z
LAST-MODIFIED:20260227T205559Z
UID:11430-1772618400-1772636400@smartgolffitness.com
SUMMARY:Titleist Club Fitting at Northbrook - 3.4.26
DESCRIPTION:Your Titleist Fitting is Calling! The new season is closing in\, is your bag ready? We’re hosting a series of Titleist Club Fitting Events at our Northbrook Clubhouse to make sure you don’t leave yards or consistency on the table this year.\n\nJoin us and get precisely fitted by the experts using the latest Titleist technology and Trackman data.\n\nTime: 10:00 AM – 3:00 PM\n\nSpaces are extremely limited and these sessions fill up fast! Visit the link below or contact the Northbrook Clubhouse to reserve your spot today.\n\nReserve Your Spot >>>
URL:https://smartgolffitness.com/event/titleist-club-fitting-at-northbrook-3-4-26/
LOCATION:Northbrook Clubhouse\, 545 South Waukegan Road\, Northbrook\, IL\, 60062\, United States
CATEGORIES:Club Fitting
ATTACH;FMTTYPE=image/png:https://smartgolffitness.com/wp-content/uploads/2026/02/SMART-Events-Social-Posts-1080-x-1350-px-copy.png
END:VEVENT
BEGIN:VEVENT
DTSTART;VALUE=DATE:20260307
DTEND;VALUE=DATE:20260310
DTSTAMP:20260421T103212
CREATED:20260119T175404Z
LAST-MODIFIED:20260119T175623Z
UID:11366-1772841600-1773100799@smartgolffitness.com
SUMMARY:SMART 4-Person Team Championship at Dormie Club 2026
DESCRIPTION:West End\, NC | March 7 – 9\, 2026\nKick off your 2026 competitive season at one of the most prestigious retreats in the Sandhills of North Carolina. We are heading to the Dormie Club\, a Coore & Crenshaw masterpiece\, for three days of elite team competition\, world-class hospitality\, and the ultimate “golf-first” experience. \nNestled among the towering pines and natural sand barrens\, Dormie Club offers a rustic\, secluded atmosphere that is the perfect backdrop for our 4-Person Team Championship. \n\n\nThe Event Schedule\nSaturday\, March 7th: Arrival & Preparation \n\n\nAfternoon: Arrive at the club. Lunch is available at the Clubhouse upon arrival. \n\n\n2:30 PM – 3:30 PM: Practice Tee Times. Get a feel for the fast\, undulating greens. \n\n\nEvening: Dinner and drinks at the Clubhouse following your round. \n\n\nSunday\, March 8th: Moving Day (36 Holes) \n\n\nMorning: Breakfast at the Clubhouse. \n\n\n9:30 AM – 10:30 AM: Tournament Round #1 Tee Times. \n\n\nMidday: Lunch at the Clubhouse. \n\n\n2:30 PM – 3:30 PM: Tournament Round #2 Tee Times. \n\n\nEvening: Dinner and post-round social at the Clubhouse. \n\n\nMonday\, March 9th: The Final Push \n\n\nMorning: Breakfast at the Clubhouse. \n\n\n8:00 AM – 9:00 AM: Final Round Tee Times. \n\n\nAfternoon: Awards Lunch at the Clubhouse followed by departure. \n\n\n\nAll-Inclusive Tournament Package\nWe believe in a “show up and play” experience. Your entry fee covers almost everything from the moment you arrive: \n\n\nGolf: 4 total rounds of golf (including practice round). \n\n\nDining: All meals\, snacks\, and select beverages (including beer\, wine\, and spirits). \n\n\nService: Forecaddie base fees and airport transfers (if needed). \n\n\nExclusives: Commemorative tee gifts and a significant prize pool for the winning teams. \n\n\nNot Included: Premium liquor and wine\, tobacco products\, club merchandise\, and caddie/staff gratuities. \n\nRegistration & Deadlines\nSpace for this exclusive team event is limited. To secure your team’s spot in the field\, please ensure your entry fee is submitted by Saturday\, January 31st. \nReady to assemble your squad? For pricing details or to register your team\, please contact your SMART Golf & Fitness coach or email us at info@smartgolffitness.com.
URL:https://smartgolffitness.com/event/smart-4-person-team-championship-at-dormie-club-2026/
LOCATION:Dormie Club\, 270 Dormie Drive\, West End\, 27376\, United States
CATEGORIES:Member Retreat,Special Events
ATTACH;FMTTYPE=image/png:https://smartgolffitness.com/wp-content/uploads/2026/01/SMART-Member-Event-Social-Posts-1080-x-1350-px.png
END:VEVENT
BEGIN:VEVENT
DTSTART;TZID=UTC:20260310T100000
DTEND;TZID=UTC:20260310T150000
DTSTAMP:20260421T103212
CREATED:20260227T205353Z
LAST-MODIFIED:20260227T205815Z
UID:11428-1773136800-1773154800@smartgolffitness.com
SUMMARY:Titleist Club Fitting at Northbrook - 3.10.26
DESCRIPTION:Your Titleist Fitting is Calling! The new season is closing in\, is your bag ready? We’re hosting a series of Titleist Club Fitting Events at our Northbrook Clubhouse to make sure you don’t leave yards or consistency on the table this year.\n\nJoin us and get precisely fitted by the experts using the latest Titleist technology and Trackman data.\n\nTime: 10:00 AM – 3:00 PM\n\nSpaces are extremely limited and these sessions fill up fast! Visit the link below or contact the Northbrook Clubhouse to reserve your spot today.\n\nReserve Your Spot >>>
URL:https://smartgolffitness.com/event/titleist-club-fitting-at-northbrook-3-10-26/
LOCATION:Northbrook Clubhouse\, 545 South Waukegan Road\, Northbrook\, IL\, 60062\, United States
CATEGORIES:Club Fitting
ATTACH;FMTTYPE=image/png:https://smartgolffitness.com/wp-content/uploads/2026/02/SMART-Events-Social-Posts-1080-x-1350-px-copy.png
END:VEVENT
BEGIN:VEVENT
DTSTART;TZID=UTC:20260318T100000
DTEND;TZID=UTC:20260318T150000
DTSTAMP:20260421T103212
CREATED:20260227T205753Z
LAST-MODIFIED:20260227T205753Z
UID:11431-1773828000-1773846000@smartgolffitness.com
SUMMARY:Titleist Club Fitting at Northbrook - 3.18.26
DESCRIPTION:Your Titleist Fitting is Calling! The new season is closing in\, is your bag ready? We’re hosting a series of Titleist Club Fitting Events at our Northbrook Clubhouse to make sure you don’t leave yards or consistency on the table this year.\n\nJoin us and get precisely fitted by the experts using the latest Titleist technology and Trackman data.\n\nTime: 10:00 AM – 3:00 PM\n\nSpaces are extremely limited and these sessions fill up fast! Visit the link below or contact the Northbrook Clubhouse to reserve your spot today.\n\nReserve Your Spot >>>
URL:https://smartgolffitness.com/event/titleist-club-fitting-at-northbrook-3-18-26/
LOCATION:Northbrook Clubhouse\, 545 South Waukegan Road\, Northbrook\, IL\, 60062\, United States
CATEGORIES:Club Fitting
ATTACH;FMTTYPE=image/png:https://smartgolffitness.com/wp-content/uploads/2026/02/SMART-Events-Social-Posts-1080-x-1350-px-copy.png
END:VEVENT
BEGIN:VEVENT
DTSTART;TZID=UTC:20260330T143000
DTEND;TZID=UTC:20260330T190000
DTSTAMP:20260421T103212
CREATED:20260320T203411Z
LAST-MODIFIED:20260320T203446Z
UID:11439-1774881000-1774897200@smartgolffitness.com
SUMMARY:TaylorMade Club Fitting at Lincoln Park - 3.30.26
DESCRIPTION:Lincoln Park golfers\, the wait is over. On Monday\, March 30th\, SMART Golf & Fitness is turning our Lincoln Park clubhouse into a high-performance lab for an exclusive TaylorMade Club Fitting experience. If you’ve been wondering if your current gear is holding back your swing\, this is your chance to get definitive\, data-backed answers before the 2026 season officially hits the grass. \nWhy Book a Fitting?\nDon’t spend your first round of the year “finding your swing” with clubs that don’t match your DNA. Whether you are looking to chase more speed with the new TP5/TP5x or want to see how the latest TaylorMade driver technology can straighten out your flight\, our expert fitters are here to optimize your kit. \n\n\n1-on-1 Expertise: Work directly with a TaylorMade specialist to find your ideal head and shaft combination. \n\n\nTrackman Insights: See your launch angle\, spin rate\, and smash factor in real-time on our premium simulators. \n\n\nThe “Gap” Audit: Ensure every club in your bag has a specific purpose and yardage—no more “dead zones” between your irons and woods. \n\n\nSpaces are strictly limited and these slots will go fast. Secure your 1-on-1 fitting now and walk onto the first tee with total confidence in your equipment. \nReserve Your Slot >>>
URL:https://smartgolffitness.com/event/taylormade-club-fitting-at-lincoln-park-3-30-26/
LOCATION:Lincoln Park Clubhouse\, 1452 W Willow Street\, Chicago\, IL\, 60642\, United States
CATEGORIES:Club Fitting
ATTACH;FMTTYPE=image/png:https://smartgolffitness.com/wp-content/uploads/2026/03/SMART-Events-Social-Posts-1080-x-1350-px.png
END:VEVENT
END:VCALENDAR